BEGIN:VCALENDAR
VERSION:2.0
PRODID:-//Freie Baptisten Gemeinde Sulz am Neckar - ECPv5.16.4//NONSGML v1.0//EN
CALSCALE:GREGORIAN
METHOD:PUBLISH
X-WR-CALNAME:Freie Baptisten Gemeinde Sulz am Neckar
X-ORIGINAL-URL:https://fbg-sulz.de
X-WR-CALDESC:Veranstaltungen für Freie Baptisten Gemeinde Sulz am Neckar
BEGIN:VTIMEZONE
TZID:Europe/Berlin
BEGIN:DAYLIGHT
TZOFFSETFROM:+0100
TZOFFSETTO:+0200
TZNAME:CEST
DTSTART:20220327T010000
END:DAYLIGHT
BEGIN:STANDARD
TZOFFSETFROM:+0200
TZOFFSETTO:+0100
TZNAME:CET
DTSTART:20221030T010000
END:STANDARD
END:VTIMEZONE
BEGIN:VEVENT
DTSTART;TZID=Europe/Berlin:20221113T100000
DTEND;TZID=Europe/Berlin:20221113T113000
DTSTAMP:20260423T003928
CREATED:20221102T185629Z
LAST-MODIFIED:20221102T190758Z
UID:3230-1668333600-1668339000@fbg-sulz.de
SUMMARY:Gottesdienst – Live vor Ort mit Charles Reichenbach
DESCRIPTION:Thema: Gog im Lande Magog – Russlands Endkampf (Hes. 38)
URL:https://fbg-sulz.de/event/gottesdienst-live-vor-ort-mit-charles-reichenbach-3
LOCATION:FBG Sulz\, Weilerstr. 65\, 72172\, 72172\, Deutschland
CATEGORIES:Wochenprogramm
END:VEVENT
END:VCALENDAR