BEGIN:VCALENDAR
VERSION:2.0
PRODID:-//Freie Baptisten Gemeinde Sulz am Neckar - ECPv5.16.4//NONSGML v1.0//EN
CALSCALE:GREGORIAN
METHOD:PUBLISH
X-WR-CALNAME:Freie Baptisten Gemeinde Sulz am Neckar
X-ORIGINAL-URL:https://fbg-sulz.de
X-WR-CALDESC:Veranstaltungen für Freie Baptisten Gemeinde Sulz am Neckar
BEGIN:VTIMEZONE
TZID:Europe/Berlin
BEGIN:DAYLIGHT
TZOFFSETFROM:+0100
TZOFFSETTO:+0200
TZNAME:CEST
DTSTART:20250330T010000
END:DAYLIGHT
BEGIN:STANDARD
TZOFFSETFROM:+0200
TZOFFSETTO:+0100
TZNAME:CET
DTSTART:20251026T010000
END:STANDARD
END:VTIMEZONE
BEGIN:VEVENT
DTSTART;TZID=Europe/Berlin:20251224T150000
DTEND;TZID=Europe/Berlin:20251224T163000
DTSTAMP:20260424T163417
CREATED:20250512T103617Z
LAST-MODIFIED:20250512T103617Z
UID:4010-1766588400-1766593800@fbg-sulz.de
SUMMARY:Heiligabend Gottesdienst mit Edgar Fronius
DESCRIPTION:
URL:https://fbg-sulz.de/event/heiligabend-gottesdienst-mit-edgar-fronius
LOCATION:FBG Sulz\, Weilerstr. 65\, 72172\, 72172\, Deutschland
CATEGORIES:Wochenprogramm
END:VEVENT
END:VCALENDAR