BEGIN:VCALENDAR
VERSION:2.0
PRODID:-//Freie Baptisten Gemeinde Sulz am Neckar - ECPv5.16.4//NONSGML v1.0//EN
CALSCALE:GREGORIAN
METHOD:PUBLISH
X-WR-CALNAME:Freie Baptisten Gemeinde Sulz am Neckar
X-ORIGINAL-URL:https://fbg-sulz.de
X-WR-CALDESC:Veranstaltungen für Freie Baptisten Gemeinde Sulz am Neckar
BEGIN:VTIMEZONE
TZID:Europe/Berlin
BEGIN:DAYLIGHT
TZOFFSETFROM:+0100
TZOFFSETTO:+0200
TZNAME:CEST
DTSTART:20220327T010000
END:DAYLIGHT
BEGIN:STANDARD
TZOFFSETFROM:+0200
TZOFFSETTO:+0100
TZNAME:CET
DTSTART:20221030T010000
END:STANDARD
END:VTIMEZONE
BEGIN:VEVENT
DTSTART;TZID=Europe/Berlin:20220722T193000
DTEND;TZID=Europe/Berlin:20220722T210000
DTSTAMP:20260420T155448
CREATED:20220630T190736Z
LAST-MODIFIED:20220706T132622Z
UID:3147-1658518200-1658523600@fbg-sulz.de
SUMMARY:Vortragsabend mit Prof. Dr. Thomas Schimmel
DESCRIPTION:__________________________________________________________ \nFaszination Universum und die Frage nach Gott \n__________________________________________________________ \nDer allgemein verständliche Vortrag gibt faszinierende Einblicke in unser Universum – von den kleinsten Teilchen bis zu den fernsten Galaxien und der spannenden Frage nach seinem Ursprung. Beeindruckende Bilder und faszinierende Zahlen lassen uns staunen\, und es stellt sich die Frage nach dem „Woher“. \n\nDer bekannte Physiker Stephen Hawking formuliert es so: „Was hat eigentlich das Feuer in die Gleichungen gehaucht und ein Universum geschaffen\, das ihnen folgen sollte“. \nReferent: Prof. Dr. rer. nat. Thomas Schimmel \nUniversität Karlsruhe – Karlsruher Institut für Technologie (KIT) \n__________________________________________________________ \nProf. Dr. Thomas Schimmel – Kurz-Vita \n \n__________________________________________________________ \nZur Person \nDer Physiker Prof. Dr. Thomas Schimmel forscht und lehrt als Universitätsprofessor an der Universität Karlsruhe\, Karlsruher Institut für Technologie (KIT). Schimmel erhielt Rufe auf Professuren an die Ludwig-Maxililians-Universität München\, die Universität Linz und die Universität Karlsruhe.  \nSchimmel ist Direktor des Forschungszentrums für Einzelatom-Technologien und Mitbegründer des Instituts für Nanotechnologie. Er ist ferner Herausgeber des internationalen Fach-Journals „Beilstein Journal of Nanotechnology“. Unter anderem hat er mit seinem Team den Einzelatom-Transistor\, den kleinsten Transistor der Welt\, entwickelt. \nFür seine Forschungsergebnisse wurde er wiederholt mit Preisen ausgezeichnet\, unter anderem mit dem renommierten Philip Morris Forschungspreis für seine Arbeiten auf dem Gebiet der Nanotechnologie und mit dem Validierungspreis des Bundesministeriums. \n__________________________________________________________
URL:https://fbg-sulz.de/event/vortragsabend-mit-prof-dr-thomas-schimmel
LOCATION:Stadthalle Sulz\, Bahnhofstraße 40/12\, Sulz a.N.\, 72172
CATEGORIES:Wochenprogramm
END:VEVENT
END:VCALENDAR