BEGIN:VCALENDAR
VERSION:2.0
PRODID:-//Freie Baptisten Gemeinde Sulz am Neckar - ECPv5.16.4//NONSGML v1.0//EN
CALSCALE:GREGORIAN
METHOD:PUBLISH
X-WR-CALNAME:Freie Baptisten Gemeinde Sulz am Neckar
X-ORIGINAL-URL:https://fbg-sulz.de
X-WR-CALDESC:Veranstaltungen für Freie Baptisten Gemeinde Sulz am Neckar
BEGIN:VTIMEZONE
TZID:Europe/Berlin
BEGIN:DAYLIGHT
TZOFFSETFROM:+0100
TZOFFSETTO:+0200
TZNAME:CEST
DTSTART:20260329T010000
END:DAYLIGHT
BEGIN:STANDARD
TZOFFSETFROM:+0200
TZOFFSETTO:+0100
TZNAME:CET
DTSTART:20261025T010000
END:STANDARD
END:VTIMEZONE
BEGIN:VEVENT
DTSTART;TZID=Europe/Berlin:20260101T193000
DTEND;TZID=Europe/Berlin:20260101T210000
DTSTAMP:20260424T130930
CREATED:20250512T105837Z
LAST-MODIFIED:20250512T105838Z
UID:4078-1767295800-1767301200@fbg-sulz.de
SUMMARY:KEIN Bibelabend
DESCRIPTION:
URL:https://fbg-sulz.de/event/kein-bibelabend-18
LOCATION:FBG Sulz\, Weilerstr. 65\, 72172\, 72172\, Deutschland
CATEGORIES:Wochenprogramm
END:VEVENT
END:VCALENDAR