BEGIN:VCALENDAR
VERSION:2.0
PRODID:-//Freie Baptisten Gemeinde Sulz am Neckar - ECPv5.16.4//NONSGML v1.0//EN
CALSCALE:GREGORIAN
METHOD:PUBLISH
X-WR-CALNAME:Freie Baptisten Gemeinde Sulz am Neckar
X-ORIGINAL-URL:https://fbg-sulz.de
X-WR-CALDESC:Veranstaltungen für Freie Baptisten Gemeinde Sulz am Neckar
BEGIN:VTIMEZONE
TZID:Europe/Berlin
BEGIN:DAYLIGHT
TZOFFSETFROM:+0100
TZOFFSETTO:+0200
TZNAME:CEST
DTSTART:20260329T010000
END:DAYLIGHT
BEGIN:STANDARD
TZOFFSETFROM:+0200
TZOFFSETTO:+0100
TZNAME:CET
DTSTART:20261025T010000
END:STANDARD
END:VTIMEZONE
BEGIN:VEVENT
DTSTART;TZID=Europe/Berlin:20260402T193000
DTEND;TZID=Europe/Berlin:20260402T210000
DTSTAMP:20260421T143315
CREATED:20260303T095337Z
LAST-MODIFIED:20260321T173118Z
UID:4202-1775158200-1775163600@fbg-sulz.de
SUMMARY:KEIN Bibel & Gebetsabend
DESCRIPTION:
URL:https://fbg-sulz.de/event/kein-bibel-gebetsabend
LOCATION:FBG Sulz\, Weilerstr. 65\, 72172\, 72172\, Deutschland
CATEGORIES:Wochenprogramm
END:VEVENT
BEGIN:VEVENT
DTSTART;TZID=Europe/Berlin:20260403T100000
DTEND;TZID=Europe/Berlin:20260403T113000
DTSTAMP:20260421T143315
CREATED:20260303T095629Z
LAST-MODIFIED:20260321T173053Z
UID:4212-1775210400-1775215800@fbg-sulz.de
SUMMARY:Karfreitagsgottesdienst mit Joachim Walter
DESCRIPTION:
URL:https://fbg-sulz.de/event/karfreitagsgottesdienst-mit-joachim-walter
LOCATION:FBG Sulz\, Weilerstr. 65\, 72172\, 72172\, Deutschland
CATEGORIES:Wochenprogramm
END:VEVENT
BEGIN:VEVENT
DTSTART;TZID=Europe/Berlin:20260405T100000
DTEND;TZID=Europe/Berlin:20260405T113000
DTSTAMP:20260421T143315
CREATED:20260303T095702Z
LAST-MODIFIED:20260321T172352Z
UID:4214-1775383200-1775388600@fbg-sulz.de
SUMMARY:Ostergottesdienst mit Marc Messmer
DESCRIPTION:
URL:https://fbg-sulz.de/event/ostergottesdienst-mit-marc-messmer-2
LOCATION:FBG Sulz\, Weilerstr. 65\, 72172\, 72172\, Deutschland
CATEGORIES:Wochenprogramm
END:VEVENT
BEGIN:VEVENT
DTSTART;TZID=Europe/Berlin:20260409T193000
DTEND;TZID=Europe/Berlin:20260409T210000
DTSTAMP:20260421T143315
CREATED:20260303T095406Z
LAST-MODIFIED:20260321T172322Z
UID:4204-1775763000-1775768400@fbg-sulz.de
SUMMARY:Bibel & Gebetsabend mit Michael Fronius
DESCRIPTION:
URL:https://fbg-sulz.de/event/bibel-gebetsabend-mit-michael-fronius-2
LOCATION:FBG Sulz\, Weilerstr. 65\, 72172\, 72172\, Deutschland
CATEGORIES:Wochenprogramm
END:VEVENT
BEGIN:VEVENT
DTSTART;TZID=Europe/Berlin:20260412T100000
DTEND;TZID=Europe/Berlin:20260412T113000
DTSTAMP:20260421T143315
CREATED:20260303T095738Z
LAST-MODIFIED:20260321T172251Z
UID:4216-1775988000-1775993400@fbg-sulz.de
SUMMARY:Gottesdienst mit Günter Schmid
DESCRIPTION:
URL:https://fbg-sulz.de/event/gottesdienst-mit-guenter-schmid-2
LOCATION:FBG Sulz\, Weilerstr. 65\, 72172\, 72172\, Deutschland
CATEGORIES:Wochenprogramm
END:VEVENT
BEGIN:VEVENT
DTSTART;TZID=Europe/Berlin:20260416T193000
DTEND;TZID=Europe/Berlin:20260416T210000
DTSTAMP:20260421T143315
CREATED:20260303T095439Z
LAST-MODIFIED:20260321T172225Z
UID:4206-1776367800-1776373200@fbg-sulz.de
SUMMARY:Bibel & Gebetsabend mit Karl-Heinz Hetz
DESCRIPTION:
URL:https://fbg-sulz.de/event/bibel-gebetsabend-mit-karl-heinz-hetz
LOCATION:FBG Sulz\, Weilerstr. 65\, 72172\, 72172\, Deutschland
CATEGORIES:Wochenprogramm
END:VEVENT
BEGIN:VEVENT
DTSTART;TZID=Europe/Berlin:20260419T100000
DTEND;TZID=Europe/Berlin:20260419T113000
DTSTAMP:20260421T143315
CREATED:20260303T095805Z
LAST-MODIFIED:20260321T172203Z
UID:4218-1776592800-1776598200@fbg-sulz.de
SUMMARY:Gottesdienst mit Marc Messmer
DESCRIPTION:
URL:https://fbg-sulz.de/event/gottesdienst-mit-marc-messmer-19
LOCATION:FBG Sulz\, Weilerstr. 65\, 72172\, 72172\, Deutschland
CATEGORIES:Wochenprogramm
END:VEVENT
BEGIN:VEVENT
DTSTART;TZID=Europe/Berlin:20260423T193000
DTEND;TZID=Europe/Berlin:20260423T210000
DTSTAMP:20260421T143315
CREATED:20260303T095518Z
LAST-MODIFIED:20260321T172141Z
UID:4208-1776972600-1776978000@fbg-sulz.de
SUMMARY:KEIN Bibel & Gebetsabend
DESCRIPTION:
URL:https://fbg-sulz.de/event/kein-bibel-gebetsabend-2
LOCATION:FBG Sulz\, Weilerstr. 65\, 72172\, 72172\, Deutschland
CATEGORIES:Wochenprogramm
END:VEVENT
BEGIN:VEVENT
DTSTART;TZID=Europe/Berlin:20260426T100000
DTEND;TZID=Europe/Berlin:20260426T113000
DTSTAMP:20260421T143315
CREATED:20260303T095838Z
LAST-MODIFIED:20260321T171945Z
UID:4220-1777197600-1777203000@fbg-sulz.de
SUMMARY:Gottesdienst mit Edgar Fronius
DESCRIPTION:
URL:https://fbg-sulz.de/event/gottesdienst-mit-edgar-fronius-6
LOCATION:FBG Sulz\, Weilerstr. 65\, 72172\, 72172\, Deutschland
CATEGORIES:Wochenprogramm
END:VEVENT
BEGIN:VEVENT
DTSTART;TZID=Europe/Berlin:20260430T193000
DTEND;TZID=Europe/Berlin:20260430T210000
DTSTAMP:20260421T143315
CREATED:20260303T095551Z
LAST-MODIFIED:20260321T171924Z
UID:4210-1777577400-1777582800@fbg-sulz.de
SUMMARY:Bibel & Gebetsabend mit Timotheus Rath
DESCRIPTION:
URL:https://fbg-sulz.de/event/bibel-gebetsabend-mit-timotheus-rath-2
LOCATION:FBG Sulz\, Weilerstr. 65\, 72172\, 72172\, Deutschland
CATEGORIES:Wochenprogramm
END:VEVENT
BEGIN:VEVENT
DTSTART;VALUE=DATE:20260501
DTEND;VALUE=DATE:20260502
DTSTAMP:20260421T143315
CREATED:20260303T102803Z
LAST-MODIFIED:20260321T171859Z
UID:4276-1777593600-1777679999@fbg-sulz.de
SUMMARY:Gemeindewanderung
DESCRIPTION:
URL:https://fbg-sulz.de/event/gemeindewanderung
LOCATION:FBG Sulz\, Weilerstr. 65\, 72172\, 72172\, Deutschland
CATEGORIES:Wochenprogramm
END:VEVENT
END:VCALENDAR